BEGIN:VCALENDAR
VERSION:2.0
PRODID:-//40.70.12.89//NONSGML kigkonsult.se iCalcreator 2.26.9//
CALSCALE:GREGORIAN
METHOD:PUBLISH
X-WR-CALNAME:PSR Harrisburg
X-WR-CALDESC:Harrisburg Physicians for Social Responsibility
X-FROM-URL:https://harrisburg.psr.org
X-WR-TIMEZONE:America/New_York
BEGIN:VTIMEZONE
TZID:America/New_York
X-LIC-LOCATION:America/New_York
BEGIN:STANDARD
DTSTART:20201101T020000
TZOFFSETFROM:-0400
TZOFFSETTO:-0500
RDATE:20211107T020000
TZNAME:EST
END:STANDARD
BEGIN:DAYLIGHT
DTSTART:20210314T020000
TZOFFSETFROM:-0500
TZOFFSETTO:-0400
RDATE:20220313T020000
TZNAME:EDT
END:DAYLIGHT
END:VTIMEZONE
BEGIN:VEVENT
UID:ai1ec-2079@harrisburg.psr.org
DTSTAMP:20210429T154430Z
CATEGORIES:
CONTACT:
DESCRIPTION:<input class='fooboxshare_post_id' type='hidden' value='1471'/>
 <p>Music\, poetry\, presentations\, and advocacy action to declare “Never 
 Again!” and floating of lanterns to remember the victims.</p>\n<p>Co-spons
 ored by PSR Harrisburg. Contact Ann Marie Judson\, <a href='mailto:AnnMari
 e512@aol.com'>AnnMarie512@aol.com</a> 717- 439-6896 for more info.</p>\n<p
  style='text-align: center'><a class='btn btn-primary' href='https://www.f
 acebook.com/events/1786490874745876/' target='_blank' rel='noopener'>Learn
  more</a></p>
DTSTART;TZID=America/New_York:20180805T184500
DTEND;TZID=America/New_York:20180805T203000
GEO:+40.259906;-76.882871
LOCATION:Market Square Presbyterian Church @ 20 N 2nd St\, Harrisburg\, PA 
 17101\, USA
SEQUENCE:0
SUMMARY:Candles on the water: Remembering the victims of Hiroshima & Nagasa
 ki and proclaiming to all humankind\, never again
URL:https://harrisburg.psr.org/event/candles-on-the-water-remembering-the-v
 ictims-of-hiroshima-nagasaki-and-proclaiming-to-all-humankind-never-again/
X-COST-TYPE:free
END:VEVENT
END:VCALENDAR
