BEGIN:VCALENDAR
VERSION:2.0
PRODID:-//40.70.12.89//NONSGML kigkonsult.se iCalcreator 2.26.9//
CALSCALE:GREGORIAN
METHOD:PUBLISH
X-WR-CALNAME:PSR Harrisburg
X-WR-CALDESC:Harrisburg Physicians for Social Responsibility
X-FROM-URL:https://harrisburg.psr.org
X-WR-TIMEZONE:America/New_York
BEGIN:VTIMEZONE
TZID:America/New_York
X-LIC-LOCATION:America/New_York
BEGIN:STANDARD
DTSTART:20211107T020000
TZOFFSETFROM:-0400
TZOFFSETTO:-0500
RDATE:20221106T020000
TZNAME:EST
END:STANDARD
BEGIN:DAYLIGHT
DTSTART:20210314T020000
TZOFFSETFROM:-0500
TZOFFSETTO:-0400
RDATE:20220313T020000,20230312T020000
TZNAME:EDT
END:DAYLIGHT
END:VTIMEZONE
BEGIN:VEVENT
UID:ai1ec-2171@harrisburg.psr.org
DTSTAMP:20210914T134542Z
CATEGORIES:
CONTACT:Ann Marie Judson\; annmarie512@aol.com
DESCRIPTION:<input class='fooboxshare_post_id' type='hidden' value='1471'/>
 <p style='text-align: center\;'>You are invited to commemorate the 75th an
 niversary<br />\nof the bombing of Hiroshima and Nagasaki</p>\n<p style='t
 ext-align: center\;'>Harrisburg on Sunday\, August 9 – 6:45 – 8:30 p.m.</p
 >\n<p>Location – Riverfront Park on Front Street across from John Harris M
 ansion</p>\n<p>Sponsors – Pax Christi Harrisburg\, PSR-Pennsylvania\, Peac
 emaking Committee of Market Square Presbyterian Church\,<br />\nChristian 
 Churches United. PA Council of Churches and others</p>\n<p>Program – Main 
 Speaker – Bill Dallam who was on site in Nagasaki\, 3 weeks after the bomb
 ing in 1945 with the Navy to measure radiation<br />\nMusic\, Liturgical D
 ance\, Readings\, Prayer\, Proclamations from the Mayor and Governor\, lau
 nching of candle boats into the Susquehanna River at sunset.</p>\n<p>No fe
 e. People will need to bring lawn chairs and/or blankets</p>
DTSTART;TZID=America/New_York:20200809T184500
DTEND;TZID=America/New_York:20200809T203000
LOCATION:Harrisburg\, PA - Riverfront Park @ 200 S Front St Harrisburg PA 1
 7104
SEQUENCE:0
SUMMARY:Candles on the Water
URL:https://harrisburg.psr.org/event/candles-on-the-water/
X-COST-TYPE:free
END:VEVENT
END:VCALENDAR
